BEGIN:VCALENDAR
VERSION:2.0
PRODID:-//time.now/holidays//NONSGML v1.0//EN
BEGIN:VEVENT
UID:4c697935-fa12-42fc-8278-1dbdbc9743f2
DTSTAMP:20260420T071850Z
DTSTART;VALUE=DATE:20250608
SUMMARY:Day after Eid al-Adha (Níger)
END:VEVENT
END:VCALENDAR