BEGIN:VCALENDAR
VERSION:2.0
PRODID:-//time.now/holidays//NONSGML v1.0//EN
BEGIN:VEVENT
UID:37fa5bfb-fca3-4237-a522-fc1c6f1f7047
DTSTAMP:20260420T215536Z
DTSTART;VALUE=DATE:20260101
SUMMARY:New Year's Day (Nicaragua)
END:VEVENT
END:VCALENDAR