BEGIN:VCALENDAR
VERSION:2.0
PRODID:-//time.now/holidays//NONSGML v1.0//EN
BEGIN:VEVENT
UID:733d11ed-9e14-4d4e-a81f-2c17bee3222c
DTSTAMP:20260420T142302Z
DTSTART;VALUE=DATE:20260403
SUMMARY:Good Friday (Nicaragua)
END:VEVENT
END:VCALENDAR