BEGIN:VCALENDAR
VERSION:2.0
PRODID:-//time.now/holidays//NONSGML v1.0//EN
BEGIN:VEVENT
UID:d6539454-a071-45b5-b030-2bf945904816
DTSTAMP:20260422T104058Z
DTSTART;VALUE=DATE:20260801
SUMMARY:Descent of Saint Dominic (Nicaragua)
END:VEVENT
END:VCALENDAR