BEGIN:VCALENDAR
VERSION:2.0
PRODID:-//time.now/holidays//NONSGML v1.0//EN
BEGIN:VEVENT
UID:52839e12-bf27-4b9a-bdee-50c81d198246
DTSTAMP:20260420T212925Z
DTSTART;VALUE=DATE:20261225
SUMMARY:Christmas Day (Nicaragua)
END:VEVENT
END:VCALENDAR