BEGIN:VCALENDAR
VERSION:2.0
PRODID:-//time.now/holidays//NONSGML v1.0//EN
BEGIN:VEVENT
UID:86a176fd-bd07-48e1-bb2f-a3fb0215307d
DTSTAMP:20260422T141352Z
DTSTART;VALUE=DATE:20260914
SUMMARY:Battle of San Jacinto Day (Nicaragua)
END:VEVENT
END:VCALENDAR