BEGIN:VCALENDAR
VERSION:2.0
PRODID:-//time.now/holidays//NONSGML v1.0//EN
BEGIN:VEVENT
UID:77ad699a-9737-4859-935b-985b62f80b47
DTSTAMP:20260422T091058Z
DTSTART;VALUE=DATE:20270208
SUMMARY:Waitangi Day (observed) (Nueva Zelanda)
END:VEVENT
END:VCALENDAR