BEGIN:VCALENDAR
VERSION:2.0
PRODID:-//time.now/holidays//NONSGML v1.0//EN
BEGIN:VEVENT
UID:40c90b33-765a-4db6-bbc7-dbf5c38b6285
DTSTAMP:20260422T164630Z
DTSTART;VALUE=DATE:20260407
SUMMARY:Southland Anniversary Day (Nueva Zelanda)
END:VEVENT
END:VCALENDAR