BEGIN:VCALENDAR
VERSION:2.0
PRODID:-//time.now/holidays//NONSGML v1.0//EN
BEGIN:VEVENT
UID:2be3cf64-2d05-422d-bb4d-170728e71493
DTSTAMP:20260422T015347Z
DTSTART;VALUE=DATE:20260928
SUMMARY:South Canterbury Anniversary Day (Nueva Zelanda)
END:VEVENT
END:VCALENDAR