BEGIN:VCALENDAR
VERSION:2.0
PRODID:-//time.now/holidays//NONSGML v1.0//EN
BEGIN:VEVENT
UID:54226a0b-c322-47ab-93b3-6a28cc326db6
DTSTAMP:20260422T104105Z
DTSTART;VALUE=DATE:20220926
SUMMARY:Queen Elizabeth II Memorial Day (Nueva Zelanda)
END:VEVENT
END:VCALENDAR