BEGIN:VCALENDAR
VERSION:2.0
PRODID:-//time.now/holidays//NONSGML v1.0//EN
BEGIN:VEVENT
UID:849972ca-9062-4ccf-b27a-71ef95719411
DTSTAMP:20260422T093729Z
DTSTART;VALUE=DATE:20280103
SUMMARY:New Year's Day (observed) (Nueva Zelanda)
END:VEVENT
END:VCALENDAR