BEGIN:VCALENDAR
VERSION:2.0
PRODID:-//time.now/holidays//NONSGML v1.0//EN
BEGIN:VEVENT
UID:e39a6425-1e9f-4071-8fdd-edadbf85a0fd
DTSTAMP:20260422T023030Z
DTSTART;VALUE=DATE:20260202
SUMMARY:Nelson Anniversary Day (Nueva Zelanda)
END:VEVENT
END:VCALENDAR