BEGIN:VCALENDAR
VERSION:2.0
PRODID:-//time.now/holidays//NONSGML v1.0//EN
BEGIN:VEVENT
UID:7ee13611-495e-4e83-aa58-be84998ff257
DTSTAMP:20260420T215047Z
DTSTART;VALUE=DATE:20260710
SUMMARY:Matariki (Nueva Zelanda)
END:VEVENT
END:VCALENDAR