BEGIN:VCALENDAR
VERSION:2.0
PRODID:-//time.now/holidays//NONSGML v1.0//EN
BEGIN:VEVENT
UID:cf9e1724-ef66-409e-94da-63bc73d1ce73
DTSTAMP:20260422T151536Z
DTSTART;VALUE=DATE:20261026
SUMMARY:Labour Day (Nueva Zelanda)
END:VEVENT
END:VCALENDAR