BEGIN:VCALENDAR
VERSION:2.0
PRODID:-//time.now/holidays//NONSGML v1.0//EN
BEGIN:VEVENT
UID:5328591b-bb28-41bf-b5d8-8596b9f4d30c
DTSTAMP:20260422T103039Z
DTSTART;VALUE=DATE:20261023
SUMMARY:Hawke's Bay Anniversary Day (Nueva Zelanda)
END:VEVENT
END:VCALENDAR