BEGIN:VCALENDAR
VERSION:2.0
PRODID:-//time.now/holidays//NONSGML v1.0//EN
BEGIN:VEVENT
UID:971f4a46-82cc-455b-9455-81b909355821
DTSTAMP:20260422T093408Z
DTSTART;VALUE=DATE:20271227
SUMMARY:Christmas Day (observed) (Nueva Zelanda)
END:VEVENT
END:VCALENDAR