BEGIN:VCALENDAR
VERSION:2.0
PRODID:-//time.now/holidays//NONSGML v1.0//EN
BEGIN:VEVENT
UID:82e30282-b2cc-42b4-b515-cc80f47c6162
DTSTAMP:20260423T014430Z
DTSTART;VALUE=DATE:20261130
SUMMARY:Chatham Islands Anniversary Day (Nueva Zelanda)
END:VEVENT
END:VCALENDAR