BEGIN:VCALENDAR
VERSION:2.0
PRODID:-//time.now/holidays//NONSGML v1.0//EN
BEGIN:VEVENT
UID:b1574b31-3678-4137-900e-fd16c1fd6452
DTSTAMP:20260422T091811Z
DTSTART;VALUE=DATE:20261228
SUMMARY:Boxing Day (observed) (Nueva Zelanda)
END:VEVENT
END:VCALENDAR