BEGIN:VCALENDAR
VERSION:2.0
PRODID:-//time.now/holidays//NONSGML v1.0//EN
BEGIN:VEVENT
UID:2b835e4d-f6f7-45fe-a7d1-28d7966fa93a
DTSTAMP:20260422T090338Z
DTSTART;VALUE=DATE:20260425
SUMMARY:Anzac Day (Nueva Zelanda)
END:VEVENT
END:VCALENDAR