BEGIN:VCALENDAR
VERSION:2.0
PRODID:-//time.now/holidays//NONSGML v1.0//EN
BEGIN:VEVENT
UID:bd169688-e92e-43fa-8983-b9b4ed04979b
DTSTAMP:20260420T144251Z
DTSTART;VALUE=DATE:20260101
SUMMARY:New Year's Day (Países Bajos)
END:VEVENT
END:VCALENDAR