BEGIN:VCALENDAR
VERSION:2.0
PRODID:-//time.now/holidays//NONSGML v1.0//EN
BEGIN:VEVENT
UID:781fd4f2-fe71-4574-bec7-94d2914021e3
DTSTAMP:20260420T024419Z
DTSTART;VALUE=DATE:20260405
SUMMARY:Easter Sunday (Países Bajos)
END:VEVENT
END:VCALENDAR