BEGIN:VCALENDAR
VERSION:2.0
PRODID:-//time.now/holidays//NONSGML v1.0//EN
BEGIN:VEVENT
UID:8aa9133a-3d03-483b-a359-5abac72fb876
DTSTAMP:20260420T163923Z
DTSTART;VALUE=DATE:20261019
SUMMARY:Maha Ashtami; Maha Navami (Nepal)
END:VEVENT
END:VCALENDAR