BEGIN:VCALENDAR
VERSION:2.0
PRODID:-//time.now/holidays//NONSGML v1.0//EN
BEGIN:VEVENT
UID:a4144149-3fed-47c7-bb71-cf974f8dc234
DTSTAMP:20260422T092734Z
DTSTART;VALUE=DATE:20350308
SUMMARY:International Women's Day; Maha Shivaratri (Nepal)
END:VEVENT
END:VCALENDAR