BEGIN:VCALENDAR
VERSION:2.0
PRODID:-//time.now/holidays//NONSGML v1.0//EN
BEGIN:VEVENT
UID:94dd92d3-02a0-45c0-80ca-f5d175efe776
DTSTAMP:20260420T174622Z
DTSTART;VALUE=DATE:20250331
SUMMARY:Id-ul-Fitr (Nepal)
END:VEVENT
END:VCALENDAR