BEGIN:VCALENDAR
VERSION:2.0
PRODID:-//time.now/holidays//NONSGML v1.0//EN
BEGIN:VEVENT
UID:bfb1927f-fdc3-4280-95d0-7381a62e624f
DTSTAMP:20260422T090025Z
DTSTART;VALUE=DATE:20260309
SUMMARY:International Women's Day (observed) (Nauru)
END:VEVENT
END:VCALENDAR