BEGIN:VCALENDAR
VERSION:2.0
PRODID:-//time.now/holidays//NONSGML v1.0//EN
BEGIN:VEVENT
UID:c81261c8-7862-4d0a-a1ee-728e2d000169
DTSTAMP:20260420T042855Z
DTSTART;VALUE=DATE:20260131
SUMMARY:Independence Day (Nauru)
END:VEVENT
END:VCALENDAR