BEGIN:VCALENDAR
VERSION:2.0
PRODID:-//time.now/holidays//NONSGML v1.0//EN
BEGIN:VEVENT
UID:7251e697-fd37-460d-8572-12a289bdcdde
DTSTAMP:20260420T193757Z
DTSTART;VALUE=DATE:20280821
SUMMARY:Ibumin Earoeni Day (observed) (Nauru)
END:VEVENT
END:VCALENDAR