BEGIN:VCALENDAR
VERSION:2.0
PRODID:-//time.now/holidays//NONSGML v1.0//EN
BEGIN:VEVENT
UID:4012a018-0c87-4595-a1ee-c686d1eb1692
DTSTAMP:20260422T193207Z
DTSTART;VALUE=DATE:20260201
SUMMARY:Day following Independence Day (Nauru)
END:VEVENT
END:VCALENDAR