BEGIN:VCALENDAR
VERSION:2.0
PRODID:-//time.now/holidays//NONSGML v1.0//EN
BEGIN:VEVENT
UID:d9a9c4b2-cffa-47d3-bf3f-e507d026e562
DTSTAMP:20260420T045404Z
DTSTART;VALUE=DATE:20260518
SUMMARY:Constitution Day (observed) (Nauru)
END:VEVENT
END:VCALENDAR