BEGIN:VCALENDAR
VERSION:2.0
PRODID:-//time.now/holidays//NONSGML v1.0//EN
BEGIN:VEVENT
UID:eaf51005-a849-473b-944f-c1b629f7b2dc
DTSTAMP:20260420T011124Z
DTSTART;VALUE=DATE:20260101
SUMMARY:New Year's Day (Namibia)
END:VEVENT
END:VCALENDAR