BEGIN:VCALENDAR
VERSION:2.0
PRODID:-//time.now/holidays//NONSGML v1.0//EN
BEGIN:VEVENT
UID:d35916c5-6179-4099-a277-ceab4987fe4a
DTSTAMP:20260419T180813Z
DTSTART;VALUE=DATE:20260826
SUMMARY:Heroes' Day (Namibia)
END:VEVENT
END:VCALENDAR