BEGIN:VCALENDAR
VERSION:2.0
PRODID:-//time.now/holidays//NONSGML v1.0//EN
BEGIN:VEVENT
UID:77813e73-e692-4d64-89dd-cb473c60a613
DTSTAMP:20260419T230258Z
DTSTART;VALUE=DATE:20241127
SUMMARY:General Election Day (Namibia)
END:VEVENT
END:VCALENDAR