BEGIN:VCALENDAR
VERSION:2.0
PRODID:-//time.now/holidays//NONSGML v1.0//EN
BEGIN:VEVENT
UID:c0bce664-b911-41a9-9c4c-5428f735ffae
DTSTAMP:20260420T013350Z
DTSTART;VALUE=DATE:20261225
SUMMARY:Christmas Day (Namibia)
END:VEVENT
END:VCALENDAR