BEGIN:VCALENDAR
VERSION:2.0
PRODID:-//time.now/holidays//NONSGML v1.0//EN
BEGIN:VEVENT
UID:7a2ef163-c86d-4216-b365-e4e19ef8738c
DTSTAMP:20260422T103917Z
DTSTART;VALUE=DATE:20250301
SUMMARY:Burial ceremony of Dr. Sam Shafiishuna Nujoma (Namibia)
END:VEVENT
END:VCALENDAR