BEGIN:VCALENDAR
VERSION:2.0
PRODID:-//time.now/holidays//NONSGML v1.0//EN
BEGIN:VEVENT
UID:45b964b3-3f31-4c60-b237-deb7c59b2234
DTSTAMP:20260420T044500Z
DTSTART;VALUE=DATE:20260525
SUMMARY:Africa Day (Namibia)
END:VEVENT
END:VCALENDAR