BEGIN:VCALENDAR
VERSION:2.0
PRODID:-//time.now/holidays//NONSGML v1.0//EN
BEGIN:VEVENT
UID:775709ea-c025-4c5b-8f91-3b4e91b9789c
DTSTAMP:20260420T110923Z
DTSTART;VALUE=DATE:20310526
SUMMARY:Africa Day (observed) (Namibia)
END:VEVENT
END:VCALENDAR