BEGIN:VCALENDAR
VERSION:2.0
PRODID:-//time.now/holidays//NONSGML v1.0//EN
BEGIN:VEVENT
UID:30efd214-3be0-42d4-87ea-b568a88e4012
DTSTAMP:20260420T155718Z
DTSTART;VALUE=DATE:20260407
SUMMARY:Women's Day (Mozambique)
END:VEVENT
END:VCALENDAR