BEGIN:VCALENDAR
VERSION:2.0
PRODID:-//time.now/holidays//NONSGML v1.0//EN
BEGIN:VEVENT
UID:bcc71fbc-a624-4e7b-8324-d008f93246a9
DTSTAMP:20260420T135645Z
DTSTART;VALUE=DATE:20260907
SUMMARY:Victory Day (Mozambique)
END:VEVENT
END:VCALENDAR