BEGIN:VCALENDAR
VERSION:2.0
PRODID:-//time.now/holidays//NONSGML v1.0//EN
BEGIN:VEVENT
UID:27a1c433-0ed9-42f1-af93-c284fa70de9f
DTSTAMP:20260420T163715Z
DTSTART;VALUE=DATE:20260203
SUMMARY:Heroes' Day (Mozambique)
END:VEVENT
END:VCALENDAR