BEGIN:VCALENDAR
VERSION:2.0
PRODID:-//time.now/holidays//NONSGML v1.0//EN
BEGIN:VEVENT
UID:71ca135e-90f0-4df2-b945-13ae272a8a4f
DTSTAMP:20260422T180339Z
DTSTART;VALUE=DATE:20261225
SUMMARY:Family Day (Mozambique)
END:VEVENT
END:VCALENDAR