BEGIN:VCALENDAR
VERSION:2.0
PRODID:-//time.now/holidays//NONSGML v1.0//EN
BEGIN:VEVENT
UID:12924cd1-3dee-4571-8db1-653b82937b27
DTSTAMP:20260420T055217Z
DTSTART;VALUE=DATE:20260925
SUMMARY:Armed Forces Day (Mozambique)
END:VEVENT
END:VCALENDAR