BEGIN:VCALENDAR
VERSION:2.0
PRODID:-//time.now/holidays//NONSGML v1.0//EN
BEGIN:VEVENT
UID:3125a9c2-9f58-4d84-81ec-4611d7d30ce9
DTSTAMP:20260420T151810Z
DTSTART;VALUE=DATE:20260825
SUMMARY:Prophet's Birthday (estimated) (Marruecos)
END:VEVENT
END:VCALENDAR