BEGIN:VCALENDAR
VERSION:2.0
PRODID:-//time.now/holidays//NONSGML v1.0//EN
BEGIN:VEVENT
UID:53ee5e70-9ce5-4259-8500-647d7d459c7d
DTSTAMP:20260420T195323Z
DTSTART;VALUE=DATE:20300715
SUMMARY:Statehood Day (observed) (Montenegro)
END:VEVENT
END:VCALENDAR