BEGIN:VCALENDAR
VERSION:2.0
PRODID:-//time.now/holidays//NONSGML v1.0//EN
BEGIN:VEVENT
UID:e5883e69-0910-43cd-8230-75654d0de166
DTSTAMP:20260420T195403Z
DTSTART;VALUE=DATE:20331114
SUMMARY:Njegos Day (observed) (Montenegro)
END:VEVENT
END:VCALENDAR