BEGIN:VCALENDAR
VERSION:2.0
PRODID:-//time.now/holidays//NONSGML v1.0//EN
BEGIN:VEVENT
UID:6aa274b0-8709-4d73-8d05-6a21057a3b5a
DTSTAMP:20260420T025410Z
DTSTART;VALUE=DATE:20260525
SUMMARY:Whit Monday (Mónaco)
END:VEVENT
END:VCALENDAR