BEGIN:VCALENDAR
VERSION:2.0
PRODID:-//time.now/holidays//NONSGML v1.0//EN
BEGIN:VEVENT
UID:cbf7301d-ad41-4650-9d34-4739e71dc91f
DTSTAMP:20260420T035629Z
DTSTART;VALUE=DATE:20260514
SUMMARY:Ascension Day (Mónaco)
END:VEVENT
END:VCALENDAR