BEGIN:VCALENDAR
VERSION:2.0
PRODID:-//time.now/holidays//NONSGML v1.0//EN
BEGIN:VEVENT
UID:b267ad91-6e12-4619-bb72-2ed50feb8b47
DTSTAMP:20260420T080712Z
DTSTART;VALUE=DATE:20261101
SUMMARY:All Saints' Day (Mónaco)
END:VEVENT
END:VCALENDAR