BEGIN:VCALENDAR
VERSION:2.0
PRODID:-//time.now/holidays//NONSGML v1.0//EN
BEGIN:VEVENT
UID:57ce2f31-2ee7-44bd-a707-b5b0cefce87b
DTSTAMP:20260420T212353Z
DTSTART;VALUE=DATE:20260501
SUMMARY:International Workers' Solidarity Day (Moldavia)
END:VEVENT
END:VCALENDAR