BEGIN:VCALENDAR
VERSION:2.0
PRODID:-//time.now/holidays//NONSGML v1.0//EN
BEGIN:VEVENT
UID:8acf888c-08da-48b0-a9fe-3ca7b4de8814
DTSTAMP:20260422T112148Z
DTSTART;VALUE=DATE:20261225
SUMMARY:Christmas Day (by new style) (Moldavia)
END:VEVENT
END:VCALENDAR