BEGIN:VCALENDAR
VERSION:2.0
PRODID:-//time.now/holidays//NONSGML v1.0//EN
BEGIN:VEVENT
UID:142947e3-7797-4410-8a82-8add3d33b42a
DTSTAMP:20260420T054927Z
DTSTART;VALUE=DATE:20261224
SUMMARY:Yap State Constitution Day (Estados Federados de Micronesia)
END:VEVENT
END:VCALENDAR